BEGIN:VCALENDAR
VERSION:2.0
PRODID:-//mariaraberger.at - ECPv6.11.2//NONSGML v1.0//EN
CALSCALE:GREGORIAN
METHOD:PUBLISH
X-WR-CALNAME:mariaraberger.at
X-ORIGINAL-URL:https://mariaraberger.at
X-WR-CALDESC:Veranstaltungen für mariaraberger.at
REFRESH-INTERVAL;VALUE=DURATION:PT1H
X-Robots-Tag:noindex
X-PUBLISHED-TTL:PT1H
BEGIN:VTIMEZONE
TZID:Europe/Vienna
BEGIN:DAYLIGHT
TZOFFSETFROM:+0100
TZOFFSETTO:+0200
TZNAME:CEST
DTSTART:20230326T010000
END:DAYLIGHT
BEGIN:STANDARD
TZOFFSETFROM:+0200
TZOFFSETTO:+0100
TZNAME:CET
DTSTART:20231029T010000
END:STANDARD
END:VTIMEZONE
BEGIN:VEVENT
DTSTART;TZID=Europe/Vienna:20230615T180000
DTEND;TZID=Europe/Vienna:20230615T193000
DTSTAMP:20260424T164205
CREATED:20230509T103327Z
LAST-MODIFIED:20230509T103327Z
UID:1048-1686852000-1686857400@mariaraberger.at
SUMMARY:Sommerschülerkonzert
DESCRIPTION:Die gesamte Klavierklasse von Maria Raberger präsentiert ihr Können \nOrt: Anton Brucknersaal der Landesmusikschule Ansfelden \n 
URL:https://mariaraberger.at/event/sommerschuelerkonzert/
LOCATION:Landesmusikschule Ansfelden\, Salzburgerstraße 26a\, Haid/Ansfelden\, 4053
END:VEVENT
END:VCALENDAR