BEGIN:VCALENDAR
VERSION:2.0
PRODID:-//mariaraberger.at - ECPv6.11.2//NONSGML v1.0//EN
CALSCALE:GREGORIAN
METHOD:PUBLISH
X-WR-CALNAME:mariaraberger.at
X-ORIGINAL-URL:https://mariaraberger.at
X-WR-CALDESC:Veranstaltungen für mariaraberger.at
REFRESH-INTERVAL;VALUE=DURATION:PT1H
X-Robots-Tag:noindex
X-PUBLISHED-TTL:PT1H
BEGIN:VTIMEZONE
TZID:Europe/Vienna
BEGIN:DAYLIGHT
TZOFFSETFROM:+0100
TZOFFSETTO:+0200
TZNAME:CEST
DTSTART:20220327T010000
END:DAYLIGHT
BEGIN:STANDARD
TZOFFSETFROM:+0200
TZOFFSETTO:+0100
TZNAME:CET
DTSTART:20221030T010000
END:STANDARD
END:VTIMEZONE
BEGIN:VEVENT
DTSTART;TZID=Europe/Vienna:20220614T180000
DTEND;TZID=Europe/Vienna:20220614T200000
DTSTAMP:20260425T175907
CREATED:20220613T213000Z
LAST-MODIFIED:20220613T213139Z
UID:998-1655229600-1655236800@mariaraberger.at
SUMMARY:Sommerlicher Tastenzauber - Schülerkonzert
DESCRIPTION:Schüer und Schülerinnen von klein bis groß präsentieren Werke unterschiedlichster Sparten! 
URL:https://mariaraberger.at/event/sommerlicher-tastenzauber-schuelerkonzert/
END:VEVENT
END:VCALENDAR