BEGIN:VCALENDAR
VERSION:2.0
PRODID:-//mariaraberger.at - ECPv6.11.2//NONSGML v1.0//EN
CALSCALE:GREGORIAN
METHOD:PUBLISH
X-WR-CALNAME:mariaraberger.at
X-ORIGINAL-URL:https://mariaraberger.at
X-WR-CALDESC:Veranstaltungen für mariaraberger.at
REFRESH-INTERVAL;VALUE=DURATION:PT1H
X-Robots-Tag:noindex
X-PUBLISHED-TTL:PT1H
BEGIN:VTIMEZONE
TZID:Europe/Vienna
BEGIN:DAYLIGHT
TZOFFSETFROM:+0100
TZOFFSETTO:+0200
TZNAME:CEST
DTSTART:20230326T010000
END:DAYLIGHT
BEGIN:STANDARD
TZOFFSETFROM:+0200
TZOFFSETTO:+0100
TZNAME:CET
DTSTART:20231029T010000
END:STANDARD
END:VTIMEZONE
BEGIN:VEVENT
DTSTART;TZID=Europe/Vienna:20230126T193000
DTEND;TZID=Europe/Vienna:20230126T210000
DTSTAMP:20260425T050656
CREATED:20220911T214110Z
LAST-MODIFIED:20230407T100846Z
UID:1011-1674761400-1674766800@mariaraberger.at
SUMMARY:Die Winterreise von Franz Schubert/Wilhelm Müller
DESCRIPTION:in einer Fassung für szenische Rezitation\, Viola und Klavier \nmit Erich Josef Langwiesner\, Rezitation \nPeter Aigner\, Viola \nMaria Raberger\, Klavier
URL:https://mariaraberger.at/event/die-winterreise-von-franz-schubert-wilhelm-mueller/
LOCATION:ABC Kulturzentrum Ansfelden\, Anton Bruckner Centrum
END:VEVENT
END:VCALENDAR